BEGIN:VCALENDAR
VERSION:2.0
PRODID:-//MLKFS - ECPv6.13.2.1//NONSGML v1.0//EN
CALSCALE:GREGORIAN
METHOD:PUBLISH
X-ORIGINAL-URL:https://www.mlkjrfamilyservices.org
X-WR-CALDESC:Events for MLKFS
REFRESH-INTERVAL;VALUE=DURATION:PT1H
X-Robots-Tag:noindex
X-PUBLISHED-TTL:PT1H
BEGIN:VTIMEZONE
TZID:UTC
BEGIN:STANDARD
TZOFFSETFROM:+0000
TZOFFSETTO:+0000
TZNAME:UTC
DTSTART:20240101T000000
END:STANDARD
END:VTIMEZONE
BEGIN:VEVENT
DTSTART;TZID=UTC:20240518T093000
DTEND;TZID=UTC:20240518T173000
DTSTAMP:20260425T150123
CREATED:20240516T140306Z
LAST-MODIFIED:20240516T141410Z
UID:2112-1716024600-1716053400@www.mlkjrfamilyservices.org
SUMMARY:Shoot For Success: Day 1
DESCRIPTION: 
URL:https://www.mlkjrfamilyservices.org/event/shoot-for-success-day-1/
LOCATION:Holyoke Community College\, 303 Homestead Avenue\, Holyoke\, MA\, 01040\, United States
END:VEVENT
BEGIN:VEVENT
DTSTART;TZID=UTC:20240517T180000
DTEND;TZID=UTC:20240517T200000
DTSTAMP:20260425T150123
CREATED:20240516T135931Z
LAST-MODIFIED:20240516T135931Z
UID:2108-1715968800-1715976000@www.mlkjrfamilyservices.org
SUMMARY:A Night at Camp (Open House)
DESCRIPTION:
URL:https://www.mlkjrfamilyservices.org/event/a-night-at-camp-open-house/
END:VEVENT
END:VCALENDAR